BEGIN:VCALENDAR
VERSION:2.0
PRODID:-//JESUS OLMEDO - ECPv6.15.17.1//NONSGML v1.0//EN
CALSCALE:GREGORIAN
METHOD:PUBLISH
X-WR-CALNAME:JESUS OLMEDO
X-ORIGINAL-URL:http://jesusolmedoflamenco.com/es_ES
X-WR-CALDESC:Events for JESUS OLMEDO
REFRESH-INTERVAL;VALUE=DURATION:PT1H
X-Robots-Tag:noindex
X-PUBLISHED-TTL:PT1H
BEGIN:VTIMEZONE
TZID:UTC
BEGIN:STANDARD
TZOFFSETFROM:+0000
TZOFFSETTO:+0000
TZNAME:UTC
DTSTART:20220101T000000
END:STANDARD
END:VTIMEZONE
BEGIN:VEVENT
DTSTART;TZID=UTC:20231005T190000
DTEND;TZID=UTC:20231005T210000
DTSTAMP:20260425T192419
CREATED:20230912T202332Z
LAST-MODIFIED:20230916T110603Z
UID:1891-1696532400-1696539600@jesusolmedoflamenco.com
SUMMARY:Tu Flamenco - Aberdeen
DESCRIPTION:Attention all flamenco enthusiasts! We are thrilled to announce an incredible Flamenco Show coming to Aberdeen\, Dundee\, Edinburgh and Glasgow\, featuring the mesmerising dancer Jesus Olmedo and the espectacular flamenco guitarist Pablo Dominguez\, accompanied by the talented musicians of TuFlamenco Inma Montero and Danielo Olivera ‘al cante’.
URL:http://jesusolmedoflamenco.com/es_ES/event/tu-flamenco-aberdeen/
LOCATION:The Basement Theatre\, North East Scotland College\, Aberdeen\, Scotland\, United Kingdom
ATTACH;FMTTYPE=image/png:http://jesusolmedoflamenco.com/wp-content/uploads/2023/09/Screenshot-2023-09-12-at-13.18.12.png
END:VEVENT
END:VCALENDAR