BEGIN:VCALENDAR
VERSION:2.0
PRODID:-//JESUS OLMEDO - ECPv6.15.17.1//NONSGML v1.0//EN
CALSCALE:GREGORIAN
METHOD:PUBLISH
X-ORIGINAL-URL:http://jesusolmedoflamenco.com/es_ES
X-WR-CALDESC:Events for JESUS OLMEDO
REFRESH-INTERVAL;VALUE=DURATION:PT1H
X-Robots-Tag:noindex
X-PUBLISHED-TTL:PT1H
BEGIN:VTIMEZONE
TZID:UTC
BEGIN:STANDARD
TZOFFSETFROM:+0000
TZOFFSETTO:+0000
TZNAME:UTC
DTSTART:20220101T000000
END:STANDARD
END:VTIMEZONE
BEGIN:VEVENT
DTSTART;TZID=UTC:20231006T190000
DTEND;TZID=UTC:20231006T213000
DTSTAMP:20260425T174558
CREATED:20230912T202716Z
LAST-MODIFIED:20230916T110537Z
UID:1894-1696618800-1696627800@jesusolmedoflamenco.com
SUMMARY:Tu Flamenco - Dundee
DESCRIPTION:Attention all flamenco enthusiasts! We are thrilled to announce an incredible Flamenco Show coming to Aberdeen\, Dundee\, Edinburgh and Glasgow\, featuring the mesmerising dancer Jesus Olmedo and the espectacular flamenco guitarist Pablo Dominguez\, accompanied by the talented musicians of TuFlamenco Inma Montero and Danielo Olivera ‘al cante’.
URL:http://jesusolmedoflamenco.com/es_ES/event/tu-flamenco-dundee/
LOCATION:Dudhope Multicultural Centre\, 5 St Mary Pl\, Dundee\, Scotland\, DD1 5RB\, United Kingdom
ATTACH;FMTTYPE=image/png:http://jesusolmedoflamenco.com/wp-content/uploads/2023/09/Screenshot-2023-09-12-at-13.18.12.png
END:VEVENT
END:VCALENDAR