BEGIN:VCALENDAR
VERSION:2.0
PRODID:-//JESUS OLMEDO - ECPv6.15.17.1//NONSGML v1.0//EN
CALSCALE:GREGORIAN
METHOD:PUBLISH
X-WR-CALNAME:JESUS OLMEDO
X-ORIGINAL-URL:http://jesusolmedoflamenco.com/es_ES
X-WR-CALDESC:Events for JESUS OLMEDO
REFRESH-INTERVAL;VALUE=DURATION:PT1H
X-Robots-Tag:noindex
X-PUBLISHED-TTL:PT1H
BEGIN:VTIMEZONE
TZID:UTC
BEGIN:STANDARD
TZOFFSETFROM:+0000
TZOFFSETTO:+0000
TZNAME:UTC
DTSTART:20240101T000000
END:STANDARD
END:VTIMEZONE
BEGIN:VEVENT
DTSTART;TZID=UTC:20250321T130000
DTEND;TZID=UTC:20250321T140000
DTSTAMP:20260424T125552
CREATED:20221117T001956Z
LAST-MODIFIED:20241129T120420Z
UID:1815-1742562000-1742565600@jesusolmedoflamenco.com
SUMMARY:Brunel Arts Lunchtime London
DESCRIPTION:Brunel Arts lunchtime concerts are delighted to welcome a trio of renowned flamenco musicians from the Jesus Olmedo Flamenco Company to close of 2024-25 concert series. \nAdrian Sola\, Monica Garcia & Jesus Olmedo will make sure you get immersed in Spanish culture. \nJoin us for a passionate celebration of traditional flamenco song\, dance\, and guitar playing.
URL:http://jesusolmedoflamenco.com/es_ES/event/brunel-arts-lunchtime-concert-jesus-olmedo-flamenco-company/
LOCATION:Brunel University
ATTACH;FMTTYPE=image/jpeg:http://jesusolmedoflamenco.com/wp-content/uploads/2022/11/IMG_6050-1.jpg
END:VEVENT
END:VCALENDAR