BEGIN:VCALENDAR
VERSION:2.0
PRODID:-//JESUS OLMEDO - ECPv6.15.17.1//NONSGML v1.0//EN
CALSCALE:GREGORIAN
METHOD:PUBLISH
X-ORIGINAL-URL:http://jesusolmedoflamenco.com/es_ES
X-WR-CALDESC:Events for JESUS OLMEDO
REFRESH-INTERVAL;VALUE=DURATION:PT1H
X-Robots-Tag:noindex
X-PUBLISHED-TTL:PT1H
BEGIN:VTIMEZONE
TZID:UTC
BEGIN:STANDARD
TZOFFSETFROM:+0000
TZOFFSETTO:+0000
TZNAME:UTC
DTSTART:20240101T000000
END:STANDARD
END:VTIMEZONE
BEGIN:VEVENT
DTSTART;TZID=UTC:20250927T130000
DTEND;TZID=UTC:20250928T170000
DTSTAMP:20260424T084700
CREATED:20160403T121726Z
LAST-MODIFIED:20250829T204816Z
UID:643-1758978000-1759078800@jesusolmedoflamenco.com
SUMMARY:Flamenco Masterclass
DESCRIPTION:Two unforgettable sessions of rhythm\, passion\, and artistry — with live guitar to bring every step to life! \n📅 Saturday 27th September – 1pm – 3pm – Choreography Tangos \nPineapple Studios\n(7 Langley Street\, London WC2H 9JA) Covent Garden Station \n📅 Sunday 28th September – 3pm – 5pm – Choreography Bulerias \nDanceworks\n(16 Balderton St\, London W1K 6TN) Bond Street Station \n💃 Level: Intermediate\n🎶 Live guitar accompaniment\n🎯 Focus: Learn and build a choreographed piece step by step \nPricing: £30 for one class / £50 for both classes \nLimited spots – BOOK NOW!\n– Email: info@jesusolmedoflamenco.com \nBorn and trained in Spain\, Jesús brings the heart and soul of Flamenco to every class. His workshops are known for their warmth\, passion\, and focus on technique — helping dancers not just learn\, but feel Flamenco through choreography.
URL:http://jesusolmedoflamenco.com/es_ES/event/flamenco-workshop-with-marina-tamayo/
LOCATION:Pineapple Studios\, 7 Langley Street\, London\, London\, WC2H 9JA\, United Kingdom
ATTACH;FMTTYPE=image/png:http://jesusolmedoflamenco.com/wp-content/uploads/2016/04/Jesus-Olmedo-2025-Masterclass-copy-e1756500000606.png
END:VEVENT
BEGIN:VEVENT
DTSTART;TZID=UTC:20260103T190000
DTEND;TZID=UTC:20260103T210000
DTSTAMP:20260424T084700
CREATED:20160401T113815Z
LAST-MODIFIED:20250814T195204Z
UID:631-1767466800-1767474000@jesusolmedoflamenco.com
SUMMARY:Flamenco Night  St Leonards
DESCRIPTION:A Night of flamenco with Jesus Olmedo\, Madrid born\, London based internationally renown flamenco dancer.  \n  \nCelebrating the Twelfth Night of Christmas or Noche de Reyes\, one of the main holidays in Spain\, Kino-Teatr’s favourite flamenco dancer Jesus Olmedo will be joined Adrian Sola (guitar)\, Rut Santamaria (singing)\, Demi Garcia (percussion) & Marina Tamayo (dancing)  on stage. \n  \n  \nOne performance on Friday night\, Jan 3th   2026 at  7.30pm.\nTickets £22 – buy now  here
URL:http://jesusolmedoflamenco.com/es_ES/event/jesus-olmedo-in-isle-of-man/
LOCATION:Kino Teatr\, 43-49 Norman Road\, St. Leonards-on-Sea\, East Sussex\, TN38 0EQ\, United Kingdom
ATTACH;FMTTYPE=image/png:http://jesusolmedoflamenco.com/wp-content/uploads/2016/04/Screenshot-2024-11-28-at-13.54.58.png
END:VEVENT
END:VCALENDAR