BEGIN:VCALENDAR
VERSION:2.0
PRODID:-//JESUS OLMEDO - ECPv6.15.17.1//NONSGML v1.0//EN
CALSCALE:GREGORIAN
METHOD:PUBLISH
X-WR-CALNAME:JESUS OLMEDO
X-ORIGINAL-URL:http://jesusolmedoflamenco.com/es_ES
X-WR-CALDESC:Events for JESUS OLMEDO
REFRESH-INTERVAL;VALUE=DURATION:PT1H
X-Robots-Tag:noindex
X-PUBLISHED-TTL:PT1H
BEGIN:VTIMEZONE
TZID:UTC
BEGIN:STANDARD
TZOFFSETFROM:+0000
TZOFFSETTO:+0000
TZNAME:UTC
DTSTART:20230101T000000
END:STANDARD
END:VTIMEZONE
BEGIN:VEVENT
DTSTART;TZID=UTC:20241207T193000
DTEND;TZID=UTC:20241207T213000
DTSTAMP:20260424T160202
CREATED:20241128T124535Z
LAST-MODIFIED:20241128T140859Z
UID:2090-1733599800-1733607000@jesusolmedoflamenco.com
SUMMARY:WCIFlamenco - Helsinki
DESCRIPTION:We call it Flamenco is a magical spectacle that immerses you in Spanish culture without leaving Helsinki. Discover 6 of the 50 existing flamenco styles\, called “palos\,” performed by professional artists in a soon-to-be-revealed location at Helsinki! \nHighlights\n💃 A flamenco show in 4 acts that delves deeper into Spanish culture\n🌹 Beautiful setting with flowers\, enhanced by the play of light and shadows\n🎭 Exceptionally talented professional performers\n🎵 A show created\, directed and choreographed by María Farelo and Cristian Pérez of Luma Artistas S.L.\n🥂 Enjoy our event with a glass of bubbly or a tapas plate \nGeneral info\n📅 Dates and times: select your dates/times directly in the ticket selector\n📍 Location: Astoria Hall: Iso Roobertinkatu 14\, 00120 Helsinki\, Finland\n⏳ Duration: approximately 60 minutes. Doors open 30 minutes before the concert and late entry is not allowed\n👤 Age requirement: 8+. Anyone under the age of 16 must be accompanied by an adult\n♿ Accessibility: wheelchair access available for this event\, subject to availability\n❓ See the FAQs for this experience here\n✨If you would like to book a private screening or purchase tickets for a large group (30+ people)\, click here\n🪑 Seats are assigned on a first-come\, first-served basis within each zone \nProgram \n\nIntroduction\nFandangos de Huelva\nSolo guitar playing\nCantiñas\nBulería\nSolo singing\nSolea\nTangos\n\nArtists \n\n2 professional flamenco dancers\nA guitarist\nA singer\n\nDescription\nWhen you think of Spain\, you think of the charm of tapas\, the warmth of the sun and especially the irresistible rhythm of flamenco! In Helsinki \, castanets and colorful polka dot dresses bring an Andalusian touch to a soon-to-be-revealed location in a unique 4-act show. Professional dancers stomp rhythmically to the music in a magical setting full of flowers\, all enhanced by exceptional light and shadow play. It is the perfect rendezvous for lovers of Spanish culture without leaving Helsinki . Get your tickets now for We call it Flamenco in Helsinki!
URL:http://jesusolmedoflamenco.com/es_ES/event/wciflamenco-helsinki/
LOCATION:Astoria Klubi\, Iso Roobertinkatu 14\, Helsinki\, 00120\, Finland
ATTACH;FMTTYPE=image/png:http://jesusolmedoflamenco.com/wp-content/uploads/2024/03/We-call-it-flamenco-e1732802896103.png
END:VEVENT
BEGIN:VEVENT
DTSTART;TZID=UTC:20241220T183000
DTEND;TZID=UTC:20241220T210000
DTSTAMP:20260424T160202
CREATED:20241128T124155Z
LAST-MODIFIED:20241128T141027Z
UID:2088-1734719400-1734728400@jesusolmedoflamenco.com
SUMMARY:WCIFlamenco - Oslo
DESCRIPTION:We call it Flamenco is a magical spectacle that immerses you in Spanish culture without leaving Oslo. Discover 6 of the 50 existing flamenco styles\, called “palos\,” performed by professional artists in a soon-to-be-revealed location at Oslo! \nHighlights\n💃 A flamenco show in 4 acts that delves deeper into Spanish culture\n🌹 Beautiful setting with flowers\, enhanced by the play of light and shadows\n🎭 Exceptionally talented professional performers\n🎵 A show created\, directed and choreographed by María Farelo and Cristian Pérez of Luma Artistas S.L.\n🥂 Enjoy our event with a glass of bubbly or a tapas plate \nGeneral info\n📅 Dates and times: select your dates/times directly in the ticket selector\n📍 Location: Cosmopolite Scene\n⏳ Duration: approximately 60 minutes. Doors open 45 minutes before the concert and late entry is not allowed\n👤 Age requirement: 8+. Anyone under the age of 16 must be accompanied by an adult\n♿ Accessibility: wheelchair access available for this event\, subject to availability\n❓ See the FAQs for this experience here\n✨If you would like to book a private screening or purchase tickets for a large group (30+ people)\, click here\n🪑 Seats are assigned on a first-come\, first-served basis within each zone \nProgram \n\nIntroduction\nFandangos de Huelva\nSolo guitar playing\nCantiñas\nBulería\nSolo singing\nSolea\nTangos\n\nArtists \n\n2 professional flamenco dancers\nA guitarist\nA singer\n\nDescription\nWhen you think of Spain\, you think of the charm of tapas\, the warmth of the sun and especially the irresistible rhythm of flamenco! In Oslo \, castanets and colorful polka dot dresses bring an Andalusian touch to a soon-to-be-revealed location in a unique 4-act show. Professional dancers stomp rhythmically to the music in a magical setting full of flowers\, all enhanced by exceptional light and shadow play. It is the perfect rendezvous for lovers of Spanish culture without leaving Oslo. Get your tickets now for We call it Flamenco in Oslo!
URL:http://jesusolmedoflamenco.com/es_ES/event/wciflamenco-oslo/
LOCATION:Cosmopolite Scene\, Soria Moria\, Vogts gate 64\, Oslo\, 0477\, Norway
ATTACH;FMTTYPE=image/png:http://jesusolmedoflamenco.com/wp-content/uploads/2024/03/We-call-it-flamenco-e1732802896103.png
END:VEVENT
END:VCALENDAR