BEGIN:VCALENDAR
VERSION:2.0
PRODID:-//JESUS OLMEDO - ECPv6.15.17.1//NONSGML v1.0//EN
CALSCALE:GREGORIAN
METHOD:PUBLISH
X-ORIGINAL-URL:http://jesusolmedoflamenco.com/es_ES
X-WR-CALDESC:Events for JESUS OLMEDO
REFRESH-INTERVAL;VALUE=DURATION:PT1H
X-Robots-Tag:noindex
X-PUBLISHED-TTL:PT1H
BEGIN:VTIMEZONE
TZID:UTC
BEGIN:STANDARD
TZOFFSETFROM:+0000
TZOFFSETTO:+0000
TZNAME:UTC
DTSTART:20240101T000000
END:STANDARD
END:VTIMEZONE
BEGIN:VEVENT
DTSTART;TZID=UTC:20250706T190000
DTEND;TZID=UTC:20250706T213000
DTSTAMP:20260424T053719
CREATED:20221117T001227Z
LAST-MODIFIED:20250416T141047Z
UID:1808-1751828400-1751837400@jesusolmedoflamenco.com
SUMMARY:Battersea Spanish
DESCRIPTION:  \nThis event is part of our Flamenco Salon Series\, that brings hand picked Flamenco or Flamenco inspired pieces\, conversations\, installations\, to an intimate audience keen to appreciate the best of Flamenco in London. \nDance: Magdalena Mannion & Jesus Olmedo \nGuitar: Adrian Sola \nSinging: Monica Garcia \n  \nThe flow of the event: \n7:00pm: doors open \n7:30pm: show starts \n(the show runs for approximately 70 minutes with an intermission of 30 minutes). \nMake sure to come hungry and thirsty to enjoy the delicious food and wine of our in house tapas bar! \n  \n 
URL:http://jesusolmedoflamenco.com/es_ES/event/1808/
LOCATION:Battersea Spanish\, 263-265 Battersea Park Road London\, London\, London\, SW11 4NE\, United Kingdom
ATTACH;FMTTYPE=image/png:http://jesusolmedoflamenco.com/wp-content/uploads/2024/11/JESUS-OLMEDO-063-copia1-e1744812553714.png
END:VEVENT
END:VCALENDAR