BEGIN:VCALENDAR
VERSION:2.0
PRODID:-//JESUS OLMEDO - ECPv6.15.17.1//NONSGML v1.0//EN
CALSCALE:GREGORIAN
METHOD:PUBLISH
X-WR-CALNAME:JESUS OLMEDO
X-ORIGINAL-URL:http://jesusolmedoflamenco.com/es_ES
X-WR-CALDESC:Events for JESUS OLMEDO
REFRESH-INTERVAL;VALUE=DURATION:PT1H
X-Robots-Tag:noindex
X-PUBLISHED-TTL:PT1H
BEGIN:VTIMEZONE
TZID:UTC
BEGIN:STANDARD
TZOFFSETFROM:+0000
TZOFFSETTO:+0000
TZNAME:UTC
DTSTART:20220101T000000
END:STANDARD
END:VTIMEZONE
BEGIN:VEVENT
DTSTART;TZID=UTC:20230315T190000
DTEND;TZID=UTC:20230913T200000
DTSTAMP:20260426T021700
CREATED:20190414T223452Z
LAST-MODIFIED:20230201T002514Z
UID:1488-1678906800-1694635200@jesusolmedoflamenco.com
SUMMARY:Flamenco Tablao
DESCRIPTION:Dinner and live flamenco show – every Wednesday at 7.00 pm! With fantastic Flamenco artists based in London. \n  \n15th March Jesus Olmedo will be dancing at Salvador & Amanda
URL:http://jesusolmedoflamenco.com/es_ES/event/flamenco-tablao/
LOCATION:Salvador & Amanda\, 8 Great Newport St\, Covent Garden\, London\, WC2H 7JA\, United Kingdom
ATTACH;FMTTYPE=image/png:http://jesusolmedoflamenco.com/wp-content/uploads/2019/04/SA_LiveFlamencoShow_Posters_Web.png
END:VEVENT
BEGIN:VEVENT
DTSTART;TZID=UTC:20230715T200000
DTEND;TZID=UTC:20230715T220000
DTSTAMP:20260426T021700
CREATED:20160328T172029Z
LAST-MODIFIED:20230615T192445Z
UID:157-1689451200-1689458400@jesusolmedoflamenco.com
SUMMARY:Fiesta Flamenca
DESCRIPTION:A fabulous display of flamenco dance and guitar combined with Latin American songs\, expect all the traditional characteristics of flamenco: hand clapping\, footwork\, jaleo\, singing\, dancing\, passion\, authentic costumes and virtuoso guitar playing . These artists love to share with the audience an underlying musicality and soulful sound that is an integral part of their expression. \nAnita la Maltesa\, Ramon Ruiz\, Sebas Ruiz\, Juan Moneo & Jesus Olmedo
URL:http://jesusolmedoflamenco.com/es_ES/event/fiesta-flamenca/
LOCATION:George IV\, 185 High Road\, Chiswick\, London\, W4 2DR\, United Kingdom
ATTACH;FMTTYPE=image/jpeg:http://jesusolmedoflamenco.com/wp-content/uploads/2016/04/10258239_10151994047477531_7398082286120293800_o.jpg
END:VEVENT
END:VCALENDAR