BEGIN:VCALENDAR
VERSION:2.0
PRODID:-//JESUS OLMEDO - ECPv6.15.17.1//NONSGML v1.0//EN
CALSCALE:GREGORIAN
METHOD:PUBLISH
X-WR-CALNAME:JESUS OLMEDO
X-ORIGINAL-URL:http://jesusolmedoflamenco.com/es_ES
X-WR-CALDESC:Events for JESUS OLMEDO
REFRESH-INTERVAL;VALUE=DURATION:PT1H
X-Robots-Tag:noindex
X-PUBLISHED-TTL:PT1H
BEGIN:VTIMEZONE
TZID:UTC
BEGIN:STANDARD
TZOFFSETFROM:+0000
TZOFFSETTO:+0000
TZNAME:UTC
DTSTART:20230101T000000
END:STANDARD
END:VTIMEZONE
BEGIN:VEVENT
DTSTART;TZID=UTC:20240705T190000
DTEND;TZID=UTC:20240705T220000
DTSTAMP:20260425T041412
CREATED:20240324T123818Z
LAST-MODIFIED:20240428T083649Z
UID:2037-1720206000-1720216800@jesusolmedoflamenco.com
SUMMARY:We call it Flamenco - Manchester
DESCRIPTION:⭐ We Call It Flamenco is a magical show that immerses you in Spanish culture without leaving Manchester. Discover 6 of the 50 different styles of flamenco\, called “palos\,” performed by professional artists at The Stoller Hall! \n  \nHighlights\n💃 Immerse yourself in Spanish culture at We Call It Flamenco\n🎭 Witness exceptionally talented professional artists in a 4-act flamenco show\n🌹 Take in the beautiful setting with flowers and a play of light and shadow\n✨ Created\, directed and choreographed by María Farelo and Cristian Pérez of Luma Artistas S.L. \nGeneral Info\n📅 Date: Friday 26 April 2024\n🕒 Time: 7 p.m. and 9 p.m.\n⏳ Duration: 1 hour\n📍 Location: Stoller Hall\, Hunts Bank\, Manchester M3 1DA\n👤 Age requirement: 8+. Minors under the age of 16 must be accompanied by an adult\n♿ Accessibility: the venue is wheelchair accessible\n🪑 Seating is assigned on a first-come\, first-served basis within each zone \nProgramme \n\nIntroduction\nFandangos de Huelva\nZambra\nBulería\nCantiñas\nSoleá\nTangos\n\nArtists \n\nJesus Olmedo\nLourdes Fernandez\nAdrian Sola\nMonica Garcia\n\nDescription\nWhen we think of Spain\, we think of tapas\, sunshine… but above all\, flamenco! In Manchester\, castanets and colourful polka-dot dresses bring a touch of Andalusia to The Stoller Hall in a unique 4-act show. Professional dancers tap their feet to the rhythm of the music in a magical\, flower-filled setting\, enhanced by an exceptional play of light and shadow. It’s the ideal meeting place for all aficionados of Spanish culture\, without leaving Manchester. So don’t miss out and get your tickets now for We Call It Flamenco in Manchester!
URL:http://jesusolmedoflamenco.com/es_ES/event/we-call-it-flamenco-manchester/
LOCATION:The Stoller Hall\, Hunts Bank\, Manchester\, Manchester\, M3 1DA\, United Kingdom
ATTACH;FMTTYPE=image/png:http://jesusolmedoflamenco.com/wp-content/uploads/2024/03/We-call-it-flamenco-e1732802896103.png
END:VEVENT
END:VCALENDAR