BEGIN:VCALENDAR
VERSION:2.0
PRODID:-//JESUS OLMEDO - ECPv6.15.17.1//NONSGML v1.0//EN
CALSCALE:GREGORIAN
METHOD:PUBLISH
X-WR-CALNAME:JESUS OLMEDO
X-ORIGINAL-URL:http://jesusolmedoflamenco.com/es_ES
X-WR-CALDESC:Events for JESUS OLMEDO
REFRESH-INTERVAL;VALUE=DURATION:PT1H
X-Robots-Tag:noindex
X-PUBLISHED-TTL:PT1H
BEGIN:VTIMEZONE
TZID:UTC
BEGIN:STANDARD
TZOFFSETFROM:+0000
TZOFFSETTO:+0000
TZNAME:UTC
DTSTART:20230101T000000
END:STANDARD
END:VTIMEZONE
BEGIN:VEVENT
DTSTART;TZID=UTC:20240717T190000
DTEND;TZID=UTC:20240717T220000
DTSTAMP:20260425T041419
CREATED:20240324T123542Z
LAST-MODIFIED:20240428T083713Z
UID:2035-1721242800-1721253600@jesusolmedoflamenco.com
SUMMARY:We call it Flamenco - Dublin
DESCRIPTION:⭐ We Call It Flamenco is a magical show that immerses you in Spanish culture without leaving Dublin. Discover 6 of the 50 different styles of flamenco\, called “palos\,” performed by professional artists at the O’Reilly Theatre! \n  \nGeneral Info\n📅 Date: Thursday 11 April 2024\n🕒 Time: 7 p.m. and 9 p.m.\n⏳ Duration: 1 hour\n📍 Location: O’Reilly Theatre\, Belvedere College\, 6 Denmark Street Great\, Rotunda\, Dublin\n👤 Age requirement: 8+. Minors under the age of 16 must be accompanied by an adult\n♿ Accessibility: the venue is wheelchair accessible\n🪑 Seating is assigned on a first-come\, first-served basis within each zone \nProgramme \n\nIntroduction\nFandangos de Huelva\nZambra\nBulería\nCantiñas\nSoleá\nTangos\n\nArtists \n\nJesus Olmedo\nJosie Sinadurai\nAdrian Sola\nMonica Garcia\n\nDescription\nWhen we think of Spain\, we think of tapas\, sunshine… but above all\, flamenco! In Dublin\, castanets and colourful polka-dot dresses bring a touch of Andalusia to the O’Reilly Theatre in a unique 4-act show. Professional dancers tap their feet to the rhythm of the music in a magical\, flower-filled setting\, enhanced by an exceptional play of light and shadow. It’s the ideal meeting place for all aficionados of Spanish culture\, without leaving Dublin. So don’t miss out and get your tickets now for We Call It Flamenco in Dublin!
URL:http://jesusolmedoflamenco.com/es_ES/event/we-call-it-flamenco-dublin/
LOCATION:O’Reilly Theatre\, Belvedere College\, 6 Denmark Street Great\, Dublin\, Rotunda\, D01 TK25\, Ireland
ATTACH;FMTTYPE=image/png:http://jesusolmedoflamenco.com/wp-content/uploads/2024/03/We-call-it-flamenco-e1732802896103.png
END:VEVENT
END:VCALENDAR