BEGIN:VCALENDAR
VERSION:2.0
PRODID:-//JESUS OLMEDO - ECPv6.15.17.1//NONSGML v1.0//EN
CALSCALE:GREGORIAN
METHOD:PUBLISH
X-WR-CALNAME:JESUS OLMEDO
X-ORIGINAL-URL:http://jesusolmedoflamenco.com
X-WR-CALDESC:Events for JESUS OLMEDO
REFRESH-INTERVAL;VALUE=DURATION:PT1H
X-Robots-Tag:noindex
X-PUBLISHED-TTL:PT1H
BEGIN:VTIMEZONE
TZID:UTC
BEGIN:STANDARD
TZOFFSETFROM:+0000
TZOFFSETTO:+0000
TZNAME:UTC
DTSTART:20240101T000000
END:STANDARD
END:VTIMEZONE
BEGIN:VEVENT
DTSTART;TZID=UTC:20250201T180000
DTEND;TZID=UTC:20250201T213000
DTSTAMP:20260424T160146
CREATED:20240324T123222Z
LAST-MODIFIED:20241211T142002Z
UID:2032-1738432800-1738445400@jesusolmedoflamenco.com
SUMMARY:WCIFlamenco - Liverpool
DESCRIPTION:We Call It Flamenco is a magical show that immerses you in Spanish culture without leaving Liverpool. Discover 6 of the 50 different styles of flamenco\, called “palos\,” performed by professional artists at St George’s Hall! \nGeneral Info\n📅 Date: Saturday 1st February 2025\n🕒 Time: 6 p.m. and 8.30 p.m.\n⏳ Duration: 1 hour\n📍 Location: St George’s Hall\, St George’s Place\, Liverpool\n👤 Age requirement: 8+. Minors under the age of 16 must be accompanied by an adult\n♿ Accessibility: the venue is wheelchair accessible\n🪑 Seating is assigned on a first-come\, first-served basis within each zone \nProgramme \n\nIntroduction\nFandangos de Huelva\nZambra\nBulería\nCantiñas\nSoleá\nTangos\n\nArtists \n\nJesus Olmedo\nMagdalena Mannion\nAdrian Sola\nMonica Garcia\n\nDescription\nWhen we think of Spain\, we think of tapas\, sunshine… but above all\, flamenco! In Liverpool\, castanets and colourful polka-dot dresses bring a touch of Andalusia to St George’s Hall in a unique 4-act show. Professional dancers tap their feet to the rhythm of the music in a magical\, flower-filled setting\, enhanced by an exceptional play of light and shadow. It’s the ideal meeting place for all aficionados of Spanish culture\, without leaving Liverpool. So don’t miss out and get your tickets now for We Call It Flamenco in Liverpool!
URL:http://jesusolmedoflamenco.com/event/we-call-it-flamenco-liverpool/
LOCATION:St George’s Hall\, St George's Place\, Liverpool\, Merseyside\, L1 1JJ\, United Kingdom
ATTACH;FMTTYPE=image/png:http://jesusolmedoflamenco.com/wp-content/uploads/2024/03/We-call-it-flamenco-e1732802896103.png
END:VEVENT
END:VCALENDAR