BEGIN:VCALENDAR
VERSION:2.0
PRODID:-//JESUS OLMEDO - ECPv6.15.17.1//NONSGML v1.0//EN
CALSCALE:GREGORIAN
METHOD:PUBLISH
X-WR-CALNAME:JESUS OLMEDO
X-ORIGINAL-URL:http://jesusolmedoflamenco.com
X-WR-CALDESC:Events for JESUS OLMEDO
REFRESH-INTERVAL;VALUE=DURATION:PT1H
X-Robots-Tag:noindex
X-PUBLISHED-TTL:PT1H
BEGIN:VTIMEZONE
TZID:UTC
BEGIN:STANDARD
TZOFFSETFROM:+0000
TZOFFSETTO:+0000
TZNAME:UTC
DTSTART:20150101T000000
END:STANDARD
END:VTIMEZONE
BEGIN:VEVENT
DTSTART;TZID=UTC:20160703T173000
DTEND;TZID=UTC:20160703T210000
DTSTAMP:20260425T160201
CREATED:20160328T172808Z
LAST-MODIFIED:20160623T102226Z
UID:160-1467567000-1467579600@jesusolmedoflamenco.com
SUMMARY:Peña Flamenca Birmingham
DESCRIPTION:A PEÑA is an informal gathering which offers opportunities for students\, aficionados of flamenco\, their friends and the general public to enjoy the sights and sounds of flamenco in an informal and friendly atmosphere.\nThe night will start with Compás and palmas workshop with acclaimed dancer Jesús Olmedo and flamenco guitarist Marco\, followed by performances by our guest artists and friends.\nTraditional paella will be served followed by an informal part where guests will have the opportunity to perform if they wish.
URL:http://jesusolmedoflamenco.com/event/pena-flamenca-birmingham/
LOCATION:The Green Room\, 70 Hurst Street\, Birmingham\, B5 4\, United Kingdom
ATTACH;FMTTYPE=image/jpeg:http://jesusolmedoflamenco.com/wp-content/uploads/2016/03/398486_356281017728942_193099187380460_1281617_687411714_n.jpg
END:VEVENT
END:VCALENDAR