BEGIN:VCALENDAR
VERSION:2.0
PRODID:-//JESUS OLMEDO - ECPv6.15.17.1//NONSGML v1.0//EN
CALSCALE:GREGORIAN
METHOD:PUBLISH
X-ORIGINAL-URL:http://jesusolmedoflamenco.com/es_ES
X-WR-CALDESC:Events for JESUS OLMEDO
REFRESH-INTERVAL;VALUE=DURATION:PT1H
X-Robots-Tag:noindex
X-PUBLISHED-TTL:PT1H
BEGIN:VTIMEZONE
TZID:UTC
BEGIN:STANDARD
TZOFFSETFROM:+0000
TZOFFSETTO:+0000
TZNAME:UTC
DTSTART:20220101T000000
END:STANDARD
END:VTIMEZONE
BEGIN:VEVENT
DTSTART;TZID=UTC:20230315T190000
DTEND;TZID=UTC:20230913T200000
DTSTAMP:20260425T210212
CREATED:20190414T223452Z
LAST-MODIFIED:20230201T002514Z
UID:1488-1678906800-1694635200@jesusolmedoflamenco.com
SUMMARY:Flamenco Tablao
DESCRIPTION:Dinner and live flamenco show – every Wednesday at 7.00 pm! With fantastic Flamenco artists based in London. \n  \n15th March Jesus Olmedo will be dancing at Salvador & Amanda
URL:http://jesusolmedoflamenco.com/es_ES/event/flamenco-tablao/
LOCATION:Salvador & Amanda\, 8 Great Newport St\, Covent Garden\, London\, WC2H 7JA\, United Kingdom
ATTACH;FMTTYPE=image/png:http://jesusolmedoflamenco.com/wp-content/uploads/2019/04/SA_LiveFlamencoShow_Posters_Web.png
END:VEVENT
BEGIN:VEVENT
DTSTART;TZID=UTC:20230904T190000
DTEND;TZID=UTC:20230904T200000
DTSTAMP:20260425T210212
CREATED:20160328T171437Z
LAST-MODIFIED:20230912T202506Z
UID:154-1693854000-1693857600@jesusolmedoflamenco.com
SUMMARY:Jesus Olmedo in La Gansa
DESCRIPTION:Every  Sunday\, here at Bar Gansa\, we bring you electrifying performances by some of the best flamenco dancers in London. We invite you the experience the true flavour and rhythm of Spain.\nout as The Mill provides an intimate venue that is perfect for seeing breathtaking professional Flamenco shows. \nJesus Olmedo\nTito Heredia\nJasmine Villalobos
URL:http://jesusolmedoflamenco.com/es_ES/event/spanish-night/
LOCATION:La Gansa\, 2 Inverness St\, London\, Camden\, NW1 7HJ\, United Kingdom
ATTACH;FMTTYPE=image/jpeg:http://jesusolmedoflamenco.com/wp-content/uploads/2016/03/tipica.jpg
END:VEVENT
BEGIN:VEVENT
DTSTART;TZID=UTC:20230922T203000
DTEND;TZID=UTC:20230922T223000
DTSTAMP:20260425T210212
CREATED:20230912T200405Z
LAST-MODIFIED:20230916T110652Z
UID:1881-1695414600-1695421800@jesusolmedoflamenco.com
SUMMARY:Tablaos\, Saraos y Colmao
DESCRIPTION:“Tablao\, Saraos y Colmao”\, delves into the roots of flamenco and at the same time confronts them. \n“A journey through different rhythms\, recreating the universe of cafés cantantes with the vision of the time we live in”. \nA path confronting tradition and modern Flamenco.\nOne singer\, Monica García\, one guitar player\, Adrian Tabú\,\ntwo dancers\, Natalia García-Huidobro and Jesús Olmedo
URL:http://jesusolmedoflamenco.com/es_ES/event/tablaos-saraos-y-colmao-jesus-olmedo-natalia-garcia/
LOCATION:Peggy’s Skylight Jazz\, 3 George Street\, Nottingham\, England\, NG1 3BH\, United Kingdom
ATTACH;FMTTYPE=image/png:http://jesusolmedoflamenco.com/wp-content/uploads/2023/09/Screenshot-2023-09-12-at-21.01.56-e1694549030868.png
END:VEVENT
BEGIN:VEVENT
DTSTART;TZID=UTC:20230926T193000
DTEND;TZID=UTC:20230926T213000
DTSTAMP:20260425T210212
CREATED:20230912T202121Z
LAST-MODIFIED:20230916T110625Z
UID:1888-1695756600-1695763800@jesusolmedoflamenco.com
SUMMARY:Ainadamar 2023 - UK Tour
DESCRIPTION:Ainadamar\, Arabic for ‘Fountain of Tears’\, is the ancient well near Granada where the Spanish poet and playwright Federico García Lorca – labelled by the Falangist militia as a ‘homosexual socialist’ – was brutally executed in 1936 during the Spanish Civil War. \nGolijov’s twice-Grammy-winning opera reimagines Lorca’s life through a flashback of memories by his muse and collaborator\, the actress Margarita Xirgu\, now in her final moments in 1969 Uruguay\, as she seeks to pass her generation’s hopes and passion on to her student\, Nuria. \nAinadamar promises a spine-tingling spectacle from the Olivier-winning star choreographer Deborah Colker (Rio 2016 Olympics Ceremony; Cirque du Soleil) in her much-anticipated operatic debut in the director’s seat. \nThe result is a dazzling kaleidoscope of music\, dance\, and theatre where flamenco meets opera through traditional Spanish singing and sumptuous operatic numbers\, all interspersed with rhythmic\, sonic\, and poetic outbursts. Ainadamar invites you to experience opera like never before. \nCardiff\, Llandudno\, Bristol\, Plymouth\, Birmingham\, Milton Keynes\, Southampton \n 
URL:http://jesusolmedoflamenco.com/es_ES/event/ainadamar-2023-uk-tour/
LOCATION:Welsh National Opera\, Bute Place\, Cardiff\, Wales\, CF10 5AL\, United Kingdom
ATTACH;FMTTYPE=image/png:http://jesusolmedoflamenco.com/wp-content/uploads/2023/09/Screenshot-2023-09-12-at-21.16.31.png
END:VEVENT
END:VCALENDAR